BEGIN:VCALENDAR
VERSION:2.0
PRODID:-//ISTO Institut des Sciences de la Terre d&#039;Orléans - ECPv4.6.1//NONSGML v1.0//EN
CALSCALE:GREGORIAN
METHOD:PUBLISH
X-WR-CALNAME:ISTO Institut des Sciences de la Terre d&#039;Orléans
X-ORIGINAL-URL:https://www.isto-orleans.fr
X-WR-CALDESC:Events for ISTO Institut des Sciences de la Terre d&#039;Orléans
BEGIN:VEVENT
DTSTART;TZID=Europe/Paris:20190114T080000
DTEND;TZID=Europe/Paris:20190114T133000
DTSTAMP:20260423T142056
CREATED:20181220T213501Z
LAST-MODIFIED:20181220T213501Z
UID:9690-1547452800-1547472600@www.isto-orleans.fr
SUMMARY:Evolution dévono-carbonifère de l'Afrique du Nord
DESCRIPTION:Rémi Lepretre \n
URL:https://www.isto-orleans.fr/evenement/evolution-devono-carbonifere-de-lafrique-du-nord/
LOCATION:1A\, rue de la Férollerie\, Orléans
GEO:47.8331965;1.9414435
X-APPLE-STRUCTURED-LOCATION;VALUE=URI;X-ADDRESS=1A rue de la Férollerie Orléans;X-APPLE-RADIUS=500;X-TITLE=1A\, rue de la Férollerie:geo:1.9414435,47.8331965
CATEGORIES:GP Métallogénie
END:VEVENT
END:VCALENDAR