BEGIN:VCALENDAR
VERSION:2.0
PRODID:-//ISTO Institut des Sciences de la Terre d&#039;Orléans - ECPv4.6.1//NONSGML v1.0//EN
CALSCALE:GREGORIAN
METHOD:PUBLISH
X-WR-CALNAME:ISTO Institut des Sciences de la Terre d&#039;Orléans
X-ORIGINAL-URL:https://www.isto-orleans.fr
X-WR-CALDESC:Events for ISTO Institut des Sciences de la Terre d&#039;Orléans
BEGIN:VEVENT
DTSTART;VALUE=DATE:20170711
DTEND;VALUE=DATE:20170714
DTSTAMP:20260423T064552
CREATED:20171121T170333Z
LAST-MODIFIED:20180130T091533Z
UID:4306-1499731200-1499990399@www.isto-orleans.fr
SUMMARY:Ecole d'été Granite
DESCRIPTION:Veuillez noter la tenue de l’école d’été Granites sur le thème des transferts magmatiques du 10 au 13 Juillet à Orléans. \nL’ambition de cette école est d’aborder de manière approfondie les grandes problématiques actuellement étudiées au niveau international sur les modalités de transfert des magmas. Notre école couvrira les processus magmatiques depuis les zones de production (la fusion)  jusqu'à la mise en place finale (plutonisme et  volcanisme). \nL'originalité de cette école est de se concentrer sur la simulation expérimentale et numérique des processus magmatiques. \n
URL:https://www.isto-orleans.fr/evenement/ecole-dete-granite/
LOCATION:Rue Dupanloup\, Orléans\, 4500\, France
GEO:47.9026739;1.9117285
X-APPLE-STRUCTURED-LOCATION;VALUE=URI;X-ADDRESS=Rue Dupanloup Orléans 4500 France;X-APPLE-RADIUS=500;X-TITLE=Rue Dupanloup:geo:1.9117285,47.9026739
CATEGORIES:GP Magma
END:VEVENT
END:VCALENDAR