BEGIN:VCALENDAR
VERSION:2.0
PRODID:-//ISTO Institut des Sciences de la Terre d&#039;Orléans - ECPv4.6.1//NONSGML v1.0//EN
CALSCALE:GREGORIAN
METHOD:PUBLISH
X-WR-CALNAME:ISTO Institut des Sciences de la Terre d&#039;Orléans
X-ORIGINAL-URL:https://www.isto-orleans.fr
X-WR-CALDESC:Events for ISTO Institut des Sciences de la Terre d&#039;Orléans
BEGIN:VEVENT
DTSTART;TZID=Europe/Paris:20170623T103000
DTEND;TZID=Europe/Paris:20170623T120000
DTSTAMP:20260421T095934
CREATED:20171127T095407Z
LAST-MODIFIED:20180130T091537Z
UID:4611-1498213800-1498219200@www.isto-orleans.fr
SUMMARY:Séminaire Jean-Alix Barrat
DESCRIPTION:Le professeur Jean-Alix Barrat de l'Université de Brest\, fera un séminaire sur le thème: \n"Accrétion\, différentiation et destruction d'un corps planétaire riche en carbone"\n
URL:https://www.isto-orleans.fr/evenement/seminaire-jean-alix-barrat/
LOCATION:1A\, rue dela Férollerie\, Orléans\, 45100
GEO:47.8331965;1.9414435
X-APPLE-STRUCTURED-LOCATION;VALUE=URI;X-ADDRESS=1A rue dela Férollerie Orléans 45100;X-APPLE-RADIUS=500;X-TITLE=1A\, rue dela Férollerie:geo:1.9414435,47.8331965
CATEGORIES:GP Magma
END:VEVENT
END:VCALENDAR